BEGIN:VCALENDAR
VERSION:2.0
PRODID:-//Adventure HUB//Events//EN
BEGIN:VEVENT
UID:69e525169ab85f5f37027593@advhub.net
DTSTAMP:20260420T142629Z
DTSTART:20260524T113000
DTEND:20260524T160000
SUMMARY:MARSIANS MCC Ride Out
DESCRIPTION:Benzingespräche und gemeinsame Ausfahrt
LOCATION:Stau 91\, 26122 Oldenburg (Oldb)
URL:https://advhub.net/events/read/69e525169ab85f5f37027593/
END:VEVENT
END:VCALENDAR
